BEGIN:VCALENDAR
VERSION:2.0
PRODID:-//CERN//INDICO//EN
BEGIN:VEVENT
SUMMARY:Welcome aboard! Reception by the president for newly appointed pro
 fessors and junior research group leaders
DTSTART:20260603T151500Z
DTEND:20260603T190000Z
DTSTAMP:20260425T164600Z
UID:indico-event-725@www.conferences.uni-hamburg.de
CONTACT:felix.neven@uni-hamburg.de\;sophia.sozomenou@uni-hamburg.de\;+49 4
 0 2395-21808/-21807
DESCRIPTION:https://www.conferences.uni-hamburg.de/event/725/
LOCATION:University Museum\, Main Building of the University of Hamburg
URL:https://www.conferences.uni-hamburg.de/event/725/
END:VEVENT
END:VCALENDAR
